BEGIN:VCALENDAR
VERSION:2.0
PRODID:-//Harmels on the Taylor River//Events Calendar//EN
X-WR-TIMEZONE:America/Denver
BEGIN:VTIMEZONE
TZID:America/Denver
BEGIN:DAYLIGHT
TZOFFSETFROM:-0700
TZOFFSETTO:-0600
TZNAME:MDT
DTSTART:19700308T020000
RRULE:FREQ=YEARLY;BYMONTH=3;BYDAY=2SU
END:DAYLIGHT
BEGIN:STANDARD
TZOFFSETFROM:-0600
TZOFFSETTO:-0700
TZNAME:MST
DTSTART:19701101T020000
RRULE:FREQ=YEARLY;BYMONTH=11;BYDAY=1SU
END:STANDARD
END:VTIMEZONE
BEGIN:VEVENT
UID:202606091830@harmels.com
DTSTART;TZID=America/Denver:20260609T183000
DTEND;TZID=America/Denver:20260609T193000
SUMMARY:Brushes & Brews (Paint & Sip)
DESCRIPTION:Unleash your inner artist at our Brushes & Brews Paint & Sip night at Harmels on the Taylor! Enjoy an evening of guided painting\, great drinks\, and good company along the beautiful Taylor River. No experience necessary — just bring your creativity and we'll provide the rest.
LOCATION:Harmels on the Taylor\, 6748 County Road 742\, Almont\, CO 81210
END:VEVENT
END:VCALENDAR
