BEGIN:VCALENDAR
VERSION:2.0
PRODID:-//Harmels on the Taylor River//Events Calendar//EN
X-WR-TIMEZONE:America/Denver
BEGIN:VTIMEZONE
TZID:America/Denver
BEGIN:DAYLIGHT
TZOFFSETFROM:-0700
TZOFFSETTO:-0600
TZNAME:MDT
DTSTART:19700308T020000
RRULE:FREQ=YEARLY;BYMONTH=3;BYDAY=2SU
END:DAYLIGHT
BEGIN:STANDARD
TZOFFSETFROM:-0600
TZOFFSETTO:-0700
TZNAME:MST
DTSTART:19701101T020000
RRULE:FREQ=YEARLY;BYMONTH=11;BYDAY=1SU
END:STANDARD
END:VTIMEZONE
BEGIN:VEVENT
UID:202606051000@harmels.com
DTSTART;TZID=America/Denver:20260605T100000
DTEND;TZID=America/Denver:20260605T120000
SUMMARY:Fly Fishing 101
DESCRIPTION:New to fly fishing? Join our guided Fly Fishing 101 session at Harmels on the Taylor! Learn the basics of casting\, reading the water\, and landing your first trout on Colorado's Gold Medal Taylor River. All experience levels welcome. Equipment provided.
LOCATION:Harmels on the Taylor\, 6748 County Road 742\, Almont\, CO 81210
END:VEVENT
END:VCALENDAR
