BEGIN:VCALENDAR
VERSION:2.0
PRODID:-//Harmels on the Taylor River//Events Calendar//EN
X-WR-TIMEZONE:America/Denver
BEGIN:VTIMEZONE
TZID:America/Denver
BEGIN:DAYLIGHT
TZOFFSETFROM:-0700
TZOFFSETTO:-0600
TZNAME:MDT
DTSTART:19700308T020000
RRULE:FREQ=YEARLY;BYMONTH=3;BYDAY=2SU
END:DAYLIGHT
BEGIN:STANDARD
TZOFFSETFROM:-0600
TZOFFSETTO:-0700
TZNAME:MST
DTSTART:19701101T020000
RRULE:FREQ=YEARLY;BYMONTH=11;BYDAY=1SU
END:STANDARD
END:VTIMEZONE
BEGIN:VEVENT
UID:202605231830@harmels.com
DTSTART;TZID=America/Denver:20260523T183000
DTEND;TZID=America/Denver:20260523T203000
SUMMARY:Live Music - Emilee Reynolds
DESCRIPTION:Kick off the summer season with live music from Emilee Reynolds at Bites & Brews on the Taylor! Enjoy great food\, cold drinks\, and riverside tunes as we celebrate the start of another amazing year at Harmels.
LOCATION:Harmels on the Taylor\, 6748 County Road 742\, Almont\, CO 81210
END:VEVENT
END:VCALENDAR
