BEGIN:VCALENDAR
VERSION:2.0
PRODID:-//Harmels on the Taylor River//Events Calendar//EN
X-WR-TIMEZONE:America/Denver
BEGIN:VTIMEZONE
TZID:America/Denver
BEGIN:DAYLIGHT
TZOFFSETFROM:-0700
TZOFFSETTO:-0600
TZNAME:MDT
DTSTART:19700308T020000
RRULE:FREQ=YEARLY;BYMONTH=3;BYDAY=2SU
END:DAYLIGHT
BEGIN:STANDARD
TZOFFSETFROM:-0600
TZOFFSETTO:-0700
TZNAME:MST
DTSTART:19701101T020000
RRULE:FREQ=YEARLY;BYMONTH=11;BYDAY=1SU
END:STANDARD
END:VTIMEZONE
BEGIN:VEVENT
UID:202605200700@harmels.com
DTSTART;TZID=America/Denver:20260520T070000
DTEND;TZID=America/Denver:20260520T080000
SUMMARY:Harmels Opening Day
DESCRIPTION:The 2026 season is here! Join us as Harmels on the Taylor officially opens for the summer. Come enjoy the beautiful Taylor River\, explore the resort\, and kick off another unforgettable season in the Colorado mountains.
LOCATION:Harmels on the Taylor\, 6748 County Road 742\, Almont\, CO 81210
END:VEVENT
END:VCALENDAR
